BEGIN:VCALENDAR
VERSION:2.0
PRODID:-//TYPO3/NONSGML News system (news)//EN
BEGIN:VEVENT
UID:news-133806@dimensions-of-europe.uni-graz.at
DTSTAMP:20260309T083436Z
DTSTART:20260506T100000Z
DTEND:20260506T110000Z
SUMMARY:Dimensions of Europe Lunch Lecture - Kristina Pranjić 

DESCRIPTION:The field of excellence Dimensions of Europe invites you to join the lunch lecture by Kristina Pranjić on 06 May 2026 starting at 12:00 in the seminar room 67.01 (Elisabethstraße 27/ground floor).
END:VEVENT
END:VCALENDAR
